BEGIN:VCALENDAR
VERSION:2.0
PRODID:-//Hyvinvointia taiteen ja kulttuurin voimalla - ECPv6.15.20//NONSGML v1.0//EN
CALSCALE:GREGORIAN
METHOD:PUBLISH
X-ORIGINAL-URL:https://xn--setlementtijmsnlaakso-h2bc.fi
X-WR-CALDESC:Tapahtumat Hyvinvointia taiteen ja kulttuurin voimalla
REFRESH-INTERVAL;VALUE=DURATION:PT1H
X-Robots-Tag:noindex
X-PUBLISHED-TTL:PT1H
BEGIN:VTIMEZONE
TZID:Europe/Helsinki
BEGIN:DAYLIGHT
TZOFFSETFROM:+0200
TZOFFSETTO:+0300
TZNAME:EEST
DTSTART:20230326T010000
END:DAYLIGHT
BEGIN:STANDARD
TZOFFSETFROM:+0300
TZOFFSETTO:+0200
TZNAME:EET
DTSTART:20231029T010000
END:STANDARD
BEGIN:DAYLIGHT
TZOFFSETFROM:+0200
TZOFFSETTO:+0300
TZNAME:EEST
DTSTART:20240331T010000
END:DAYLIGHT
BEGIN:STANDARD
TZOFFSETFROM:+0300
TZOFFSETTO:+0200
TZNAME:EET
DTSTART:20241027T010000
END:STANDARD
BEGIN:DAYLIGHT
TZOFFSETFROM:+0200
TZOFFSETTO:+0300
TZNAME:EEST
DTSTART:20250330T010000
END:DAYLIGHT
BEGIN:STANDARD
TZOFFSETFROM:+0300
TZOFFSETTO:+0200
TZNAME:EET
DTSTART:20251026T010000
END:STANDARD
END:VTIMEZONE
BEGIN:VEVENT
DTSTART;TZID=Europe/Helsinki:20240731T180000
DTEND;TZID=Europe/Helsinki:20240731T200000
DTSTAMP:20260422T212728
CREATED:20240624T083946Z
LAST-MODIFIED:20240624T083946Z
UID:2255-1722448800-1722456000@xn--setlementtijmsnlaakso-h2bc.fi
SUMMARY:Helenan syntymäpäivän viettoa Vinnillä
DESCRIPTION:Tule juhlimaan kanssamme Helena Ojan syntymäpäivää. \nPukeudu mukavasti\, Vinnin tilan arvoisesti. Nautitaan posliinikupeista kahvia ja syödään kakkua. \nEsiintyjänä Casio Kvartetti. \nTapahtumiin on vapaa pääsy. \n 
URL:https://xn--setlementtijmsnlaakso-h2bc.fi/event/helenan-syntymapaivan-viettoa-vinnilla/
LOCATION:Vinnin tila\, Vinnintie 40\, Jämsä\, 42100
ATTACH;FMTTYPE=image/jpeg:https://xn--setlementtijmsnlaakso-h2bc.fi/wp-content/uploads/2022/09/4-1-scaled.jpg
END:VEVENT
END:VCALENDAR