BEGIN:VCALENDAR
VERSION:2.0
PRODID:-//Hyvinvointia taiteen ja kulttuurin voimalla - ECPv6.15.20//NONSGML v1.0//EN
CALSCALE:GREGORIAN
METHOD:PUBLISH
X-WR-CALNAME:Hyvinvointia taiteen ja kulttuurin voimalla
X-ORIGINAL-URL:https://xn--setlementtijmsnlaakso-h2bc.fi
X-WR-CALDESC:Tapahtumat Hyvinvointia taiteen ja kulttuurin voimalla
REFRESH-INTERVAL;VALUE=DURATION:PT1H
X-Robots-Tag:noindex
X-PUBLISHED-TTL:PT1H
BEGIN:VTIMEZONE
TZID:Europe/Helsinki
BEGIN:DAYLIGHT
TZOFFSETFROM:+0200
TZOFFSETTO:+0300
TZNAME:EEST
DTSTART:20240331T010000
END:DAYLIGHT
BEGIN:STANDARD
TZOFFSETFROM:+0300
TZOFFSETTO:+0200
TZNAME:EET
DTSTART:20241027T010000
END:STANDARD
BEGIN:DAYLIGHT
TZOFFSETFROM:+0200
TZOFFSETTO:+0300
TZNAME:EEST
DTSTART:20250330T010000
END:DAYLIGHT
BEGIN:STANDARD
TZOFFSETFROM:+0300
TZOFFSETTO:+0200
TZNAME:EET
DTSTART:20251026T010000
END:STANDARD
BEGIN:DAYLIGHT
TZOFFSETFROM:+0200
TZOFFSETTO:+0300
TZNAME:EEST
DTSTART:20260329T010000
END:DAYLIGHT
BEGIN:STANDARD
TZOFFSETFROM:+0300
TZOFFSETTO:+0200
TZNAME:EET
DTSTART:20261025T010000
END:STANDARD
END:VTIMEZONE
BEGIN:VEVENT
DTSTART;TZID=Europe/Helsinki:20250131T150000
DTEND;TZID=Europe/Helsinki:20250131T180000
DTSTAMP:20260422T104627
CREATED:20250121T131720Z
LAST-MODIFIED:20250121T170029Z
UID:2266-1738335600-1738346400@xn--setlementtijmsnlaakso-h2bc.fi
SUMMARY:Luovan ilmaisun ja kirjallisuuden piiri
DESCRIPTION:Piiri kokoontuu pe 31.1.25 klo 15 Kahvila Koululla Jämsässä. Tutustutaan ja otetaan ohjelmistoon Aura Jurvan satunäytelmä Puunhakkaaja ja metsänneito. Luovan ilmaisun ja kirjallisuuden piiri on avoin kaikenikäisille ja piirissä tutustutaan kirjailijoihin ja heidän teoksiinsa. Sovituissa tapaamisissa pääset ilmaisemaan itseäsi myös luovan ilmaisun keinoin\, kun teoksista tehdään näytelmiä. Piiriä ohjaa Jaana Lyyra\, p. 0500 416204. Tervetuloa mukaan!
URL:https://xn--setlementtijmsnlaakso-h2bc.fi/event/luovan-ilmaisun-ja-kirjallisuuden-piiri-2/
LOCATION:Kahvila Koulu\, Kelhänkatu 8b\, Jämsä\, 42100
END:VEVENT
END:VCALENDAR