BEGIN:VCALENDAR
VERSION:2.0
PRODID:-//Hyvinvointia taiteen ja kulttuurin voimalla - ECPv6.15.20//NONSGML v1.0//EN
CALSCALE:GREGORIAN
METHOD:PUBLISH
X-ORIGINAL-URL:https://xn--setlementtijmsnlaakso-h2bc.fi
X-WR-CALDESC:Tapahtumat Hyvinvointia taiteen ja kulttuurin voimalla
REFRESH-INTERVAL;VALUE=DURATION:PT1H
X-Robots-Tag:noindex
X-PUBLISHED-TTL:PT1H
BEGIN:VTIMEZONE
TZID:Europe/Helsinki
BEGIN:DAYLIGHT
TZOFFSETFROM:+0200
TZOFFSETTO:+0300
TZNAME:EEST
DTSTART:20240331T010000
END:DAYLIGHT
BEGIN:STANDARD
TZOFFSETFROM:+0300
TZOFFSETTO:+0200
TZNAME:EET
DTSTART:20241027T010000
END:STANDARD
BEGIN:DAYLIGHT
TZOFFSETFROM:+0200
TZOFFSETTO:+0300
TZNAME:EEST
DTSTART:20250330T010000
END:DAYLIGHT
BEGIN:STANDARD
TZOFFSETFROM:+0300
TZOFFSETTO:+0200
TZNAME:EET
DTSTART:20251026T010000
END:STANDARD
BEGIN:DAYLIGHT
TZOFFSETFROM:+0200
TZOFFSETTO:+0300
TZNAME:EEST
DTSTART:20260329T010000
END:DAYLIGHT
BEGIN:STANDARD
TZOFFSETFROM:+0300
TZOFFSETTO:+0200
TZNAME:EET
DTSTART:20261025T010000
END:STANDARD
END:VTIMEZONE
BEGIN:VEVENT
DTSTART;TZID=Europe/Helsinki:20250306T173000
DTEND;TZID=Europe/Helsinki:20250306T183000
DTSTAMP:20260422T091018
CREATED:20250121T135634Z
LAST-MODIFIED:20250121T170646Z
UID:2279-1741282200-1741285800@xn--setlementtijmsnlaakso-h2bc.fi
SUMMARY:Runokaraoke
DESCRIPTION:Olet tervetullut lukemaan tai lausumaan jonkun toisen kirjoittaman tai omatekemäsi runon. Voit tulla kuuntelemaankin. Kokoonnumme Jämsän pääkirjaston monitoimisalissa klo 17.30–18.30. Runokaraoket toteutetaan yhdessä kaupungin kirjaston kanssa. To 6.3.25 aiheena naiset.
URL:https://xn--setlementtijmsnlaakso-h2bc.fi/event/runokaraoke-3/
LOCATION:Jämsän kirjasto\, Keskuskatu 2-4\, Jämsä\, 42100
END:VEVENT
END:VCALENDAR