BEGIN:VCALENDAR
VERSION:2.0
PRODID:-//Hyvinvointia taiteen ja kulttuurin voimalla - ECPv6.15.20//NONSGML v1.0//EN
CALSCALE:GREGORIAN
METHOD:PUBLISH
X-ORIGINAL-URL:https://xn--setlementtijmsnlaakso-h2bc.fi
X-WR-CALDESC:Tapahtumat Hyvinvointia taiteen ja kulttuurin voimalla
REFRESH-INTERVAL;VALUE=DURATION:PT1H
X-Robots-Tag:noindex
X-PUBLISHED-TTL:PT1H
BEGIN:VTIMEZONE
TZID:Europe/Helsinki
BEGIN:DAYLIGHT
TZOFFSETFROM:+0200
TZOFFSETTO:+0300
TZNAME:EEST
DTSTART:20250330T010000
END:DAYLIGHT
BEGIN:STANDARD
TZOFFSETFROM:+0300
TZOFFSETTO:+0200
TZNAME:EET
DTSTART:20251026T010000
END:STANDARD
BEGIN:DAYLIGHT
TZOFFSETFROM:+0200
TZOFFSETTO:+0300
TZNAME:EEST
DTSTART:20260329T010000
END:DAYLIGHT
BEGIN:STANDARD
TZOFFSETFROM:+0300
TZOFFSETTO:+0200
TZNAME:EET
DTSTART:20261025T010000
END:STANDARD
BEGIN:DAYLIGHT
TZOFFSETFROM:+0200
TZOFFSETTO:+0300
TZNAME:EEST
DTSTART:20270328T010000
END:DAYLIGHT
BEGIN:STANDARD
TZOFFSETFROM:+0300
TZOFFSETTO:+0200
TZNAME:EET
DTSTART:20271031T010000
END:STANDARD
END:VTIMEZONE
BEGIN:VEVENT
DTSTART;TZID=Europe/Helsinki:20260216T130000
DTEND;TZID=Europe/Helsinki:20260216T160000
DTSTAMP:20260419T131916
CREATED:20260201T225905Z
LAST-MODIFIED:20260201T225905Z
UID:2561-1771246800-1771257600@xn--setlementtijmsnlaakso-h2bc.fi
SUMMARY:Luovan toiminnan kerho
DESCRIPTION:Alakouluikäisille maanantaisin klo 13–16 Jameksessa. 16.2.2026 teemana Amulettipaja. Tarjolla myös omavalintainen toiminta; piirtäminen\, maalaus\, pelailu tms. \nToiminta on maksutonta eikä kerhoon tarvitse ilmoittautua. Tarjoamme pienen välipalan. Ohjaajana Pirjo Raudaskoski\, p. 045 274 6802\, apuohjaajana Silja Piirainen.
URL:https://xn--setlementtijmsnlaakso-h2bc.fi/event/luovan-toiminnan-kerho-36/
LOCATION:James\, Mottilantie 11\, Jämsä\, 42100
END:VEVENT
END:VCALENDAR