BEGIN:VCALENDAR
VERSION:2.0
PRODID:-//Hyvinvointia taiteen ja kulttuurin voimalla - ECPv6.15.20//NONSGML v1.0//EN
CALSCALE:GREGORIAN
METHOD:PUBLISH
X-ORIGINAL-URL:https://xn--setlementtijmsnlaakso-h2bc.fi
X-WR-CALDESC:Tapahtumat Hyvinvointia taiteen ja kulttuurin voimalla
REFRESH-INTERVAL;VALUE=DURATION:PT1H
X-Robots-Tag:noindex
X-PUBLISHED-TTL:PT1H
BEGIN:VTIMEZONE
TZID:Europe/Helsinki
BEGIN:DAYLIGHT
TZOFFSETFROM:+0200
TZOFFSETTO:+0300
TZNAME:EEST
DTSTART:20240331T010000
END:DAYLIGHT
BEGIN:STANDARD
TZOFFSETFROM:+0300
TZOFFSETTO:+0200
TZNAME:EET
DTSTART:20241027T010000
END:STANDARD
BEGIN:DAYLIGHT
TZOFFSETFROM:+0200
TZOFFSETTO:+0300
TZNAME:EEST
DTSTART:20250330T010000
END:DAYLIGHT
BEGIN:STANDARD
TZOFFSETFROM:+0300
TZOFFSETTO:+0200
TZNAME:EET
DTSTART:20251026T010000
END:STANDARD
BEGIN:DAYLIGHT
TZOFFSETFROM:+0200
TZOFFSETTO:+0300
TZNAME:EEST
DTSTART:20260329T010000
END:DAYLIGHT
BEGIN:STANDARD
TZOFFSETFROM:+0300
TZOFFSETTO:+0200
TZNAME:EET
DTSTART:20261025T010000
END:STANDARD
END:VTIMEZONE
BEGIN:VEVENT
DTSTART;TZID=Europe/Helsinki:20250303T130000
DTEND;TZID=Europe/Helsinki:20250303T160000
DTSTAMP:20260422T073022
CREATED:20250121T155546Z
LAST-MODIFIED:20250121T170238Z
UID:2312-1741006800-1741017600@xn--setlementtijmsnlaakso-h2bc.fi
SUMMARY:Luovan toiminnan kerho
DESCRIPTION:Alakouluikäisille maanantaisin 13.1.25 alkaen klo 13–16 Jameksessa. Tule askartelemaan\, piirtelemään\, pelailemaan\, laulamaan karaokea. Toiminta on maksutonta eikä kerhoon tarvitse ilmoittautua. Tarjoamme pienen välipalan. Toiminnan mahdollistaa Setlementtiliitto. Ohjaaja ja lisätietoa Marjo Örn\, p. 045 1061776.
URL:https://xn--setlementtijmsnlaakso-h2bc.fi/event/luovan-toiminnan-kerho-9/
LOCATION:James\, Mottilantie 11\, Jämsä\, 42100
END:VEVENT
BEGIN:VEVENT
DTSTART;TZID=Europe/Helsinki:20250306T173000
DTEND;TZID=Europe/Helsinki:20250306T183000
DTSTAMP:20260422T073022
CREATED:20250121T135634Z
LAST-MODIFIED:20250121T170646Z
UID:2279-1741282200-1741285800@xn--setlementtijmsnlaakso-h2bc.fi
SUMMARY:Runokaraoke
DESCRIPTION:Olet tervetullut lukemaan tai lausumaan jonkun toisen kirjoittaman tai omatekemäsi runon. Voit tulla kuuntelemaankin. Kokoonnumme Jämsän pääkirjaston monitoimisalissa klo 17.30–18.30. Runokaraoket toteutetaan yhdessä kaupungin kirjaston kanssa. To 6.3.25 aiheena naiset.
URL:https://xn--setlementtijmsnlaakso-h2bc.fi/event/runokaraoke-3/
LOCATION:Jämsän kirjasto\, Keskuskatu 2-4\, Jämsä\, 42100
END:VEVENT
BEGIN:VEVENT
DTSTART;TZID=Europe/Helsinki:20250324T130000
DTEND;TZID=Europe/Helsinki:20250324T160000
DTSTAMP:20260422T073022
CREATED:20250319T171924Z
LAST-MODIFIED:20250319T171924Z
UID:2330-1742821200-1742832000@xn--setlementtijmsnlaakso-h2bc.fi
SUMMARY:Luovan toiminnan kerho
DESCRIPTION:Alakouluikäisille maanantaisin klo 13–16 Jameksessa. Tule askartelemaan\, piirtelemään\, pelailemaan\, laulamaan karaokea. Toiminta on maksutonta eikä kerhoon tarvitse ilmoittautua. Tarjoamme pienen välipalan. Toiminnan mahdollistaa Setlementtiliitto. Ohjaaja ja lisätietoa Marjo Örn\, p. 045 1061776.
URL:https://xn--setlementtijmsnlaakso-h2bc.fi/event/luovan-toiminnan-kerho-8/
LOCATION:James\, Mottilantie 11\, Jämsä\, 42100
END:VEVENT
BEGIN:VEVENT
DTSTART;TZID=Europe/Helsinki:20250325T140000
DTEND;TZID=Europe/Helsinki:20250325T150000
DTSTAMP:20260422T073022
CREATED:20250319T170948Z
LAST-MODIFIED:20250319T170948Z
UID:2326-1742911200-1742914800@xn--setlementtijmsnlaakso-h2bc.fi
SUMMARY:Tiistaiturinat
DESCRIPTION:Taidetalo Pässinmäessä 25.3.2025 klo 14–15. Hannu Teider johdattelee keskustelua\, jossa muistellaan Jämsän seudun entisiä menestyneitä urheilusankareita. Tapahtuma on kaikille avoin. Kahvitarjoilu\, tervetuloa!
URL:https://xn--setlementtijmsnlaakso-h2bc.fi/event/tiistaiturinat-6/
LOCATION:Taidetalo Pässinmäki\, Tiilikantie 5\, Jämsänkoski\, 42300
END:VEVENT
BEGIN:VEVENT
DTSTART;TZID=Europe/Helsinki:20250331T130000
DTEND;TZID=Europe/Helsinki:20250331T160000
DTSTAMP:20260422T073022
CREATED:20250319T172553Z
LAST-MODIFIED:20250319T172553Z
UID:2332-1743426000-1743436800@xn--setlementtijmsnlaakso-h2bc.fi
SUMMARY:Luovan toiminnan kerho
DESCRIPTION:Alakouluikäisille maanantaisin klo 13–16 Jameksessa. Tule askartelemaan\, piirtelemään\, pelailemaan\, laulamaan karaokea. Toiminta on maksutonta eikä kerhoon tarvitse ilmoittautua. Tarjoamme pienen välipalan. Toiminnan mahdollistaa Setlementtiliitto. Ohjaaja ja lisätietoa Marjo Örn\, p. 045 1061776.
URL:https://xn--setlementtijmsnlaakso-h2bc.fi/event/luovan-toiminnan-kerho-10/
LOCATION:James\, Mottilantie 11\, Jämsä\, 42100
END:VEVENT
END:VCALENDAR