BEGIN:VCALENDAR
VERSION:2.0
PRODID:-//Hyvinvointia taiteen ja kulttuurin voimalla - ECPv6.15.20//NONSGML v1.0//EN
CALSCALE:GREGORIAN
METHOD:PUBLISH
X-WR-CALNAME:Hyvinvointia taiteen ja kulttuurin voimalla
X-ORIGINAL-URL:https://xn--setlementtijmsnlaakso-h2bc.fi
X-WR-CALDESC:Tapahtumat Hyvinvointia taiteen ja kulttuurin voimalla
REFRESH-INTERVAL;VALUE=DURATION:PT1H
X-Robots-Tag:noindex
X-PUBLISHED-TTL:PT1H
BEGIN:VTIMEZONE
TZID:Europe/Helsinki
BEGIN:DAYLIGHT
TZOFFSETFROM:+0200
TZOFFSETTO:+0300
TZNAME:EEST
DTSTART:20240331T010000
END:DAYLIGHT
BEGIN:STANDARD
TZOFFSETFROM:+0300
TZOFFSETTO:+0200
TZNAME:EET
DTSTART:20241027T010000
END:STANDARD
BEGIN:DAYLIGHT
TZOFFSETFROM:+0200
TZOFFSETTO:+0300
TZNAME:EEST
DTSTART:20250330T010000
END:DAYLIGHT
BEGIN:STANDARD
TZOFFSETFROM:+0300
TZOFFSETTO:+0200
TZNAME:EET
DTSTART:20251026T010000
END:STANDARD
BEGIN:DAYLIGHT
TZOFFSETFROM:+0200
TZOFFSETTO:+0300
TZNAME:EEST
DTSTART:20260329T010000
END:DAYLIGHT
BEGIN:STANDARD
TZOFFSETFROM:+0300
TZOFFSETTO:+0200
TZNAME:EET
DTSTART:20261025T010000
END:STANDARD
END:VTIMEZONE
BEGIN:VEVENT
DTSTART;TZID=Europe/Helsinki:20250113T130000
DTEND;TZID=Europe/Helsinki:20250113T160000
DTSTAMP:20260423T014726
CREATED:20250121T141445Z
LAST-MODIFIED:20250121T165348Z
UID:2276-1736773200-1736784000@xn--setlementtijmsnlaakso-h2bc.fi
SUMMARY:Luovan toiminnan kerho
DESCRIPTION:Alakouluikäisille maanantaisin 13.1.25 alkaen klo 13–16 Jameksessa. Tule askartelemaan\, piirtelemään\, pelailemaan\, laulamaan karaokea. Toiminta on maksutonta eikä kerhoon tarvitse ilmoittautua. Tarjoamme pienen välipalan. Toiminnan mahdollistaa Setlementtiliitto. Ohjaaja ja lisätietoa Marjo Örn\, p. 045 1061776.
URL:https://xn--setlementtijmsnlaakso-h2bc.fi/event/luovan-toiminnan-kerho-2/
LOCATION:James\, Mottilantie 11\, Jämsä\, 42100
END:VEVENT
BEGIN:VEVENT
DTSTART;TZID=Europe/Helsinki:20250120T130000
DTEND;TZID=Europe/Helsinki:20250120T160000
DTSTAMP:20260423T014726
CREATED:20250121T153226Z
LAST-MODIFIED:20250121T153226Z
UID:2299-1737378000-1737388800@xn--setlementtijmsnlaakso-h2bc.fi
SUMMARY:Luovan toiminnan kerho
DESCRIPTION:Alakouluikäisille maanantaisin 13.1.25 alkaen klo 13–16 Jameksessa. Tule askartelemaan\, piirtelemään\, pelailemaan\, laulamaan karaokea. Toiminta on maksutonta eikä kerhoon tarvitse ilmoittautua. Tarjoamme pienen välipalan. Toiminnan mahdollistaa Setlementtiliitto. Ohjaaja ja lisätietoa Marjo Örn\, p. 045 1061776.
URL:https://xn--setlementtijmsnlaakso-h2bc.fi/event/luovan-toiminnan-kerho-3/
LOCATION:James\, Mottilantie 11\, Jämsä\, 42100
END:VEVENT
BEGIN:VEVENT
DTSTART;TZID=Europe/Helsinki:20250121T140000
DTEND;TZID=Europe/Helsinki:20250121T150000
DTSTAMP:20260423T014726
CREATED:20250121T143535Z
LAST-MODIFIED:20250121T165708Z
UID:2295-1737468000-1737471600@xn--setlementtijmsnlaakso-h2bc.fi
SUMMARY:Tiistaiturinat
DESCRIPTION:Jokilaakson Luontaispuodissa 21.1.2025 klo 14–15. Tule pohtimaan\, miten kuun asento vaikuttaa hiusten kasvuun\, pyykin puhtauteen tai taideharrastuksiin. Vai vaikuttaako mitenkään? Tapahtuma on kaikille avoin. Kahvitarjoilu. Tervetuloa!
URL:https://xn--setlementtijmsnlaakso-h2bc.fi/event/tiistaiturinat-4/
LOCATION:Jokilaakson Luontaispuoti\, Koskentie 5\, Jämsä\, 42100
END:VEVENT
BEGIN:VEVENT
DTSTART;TZID=Europe/Helsinki:20250127T130000
DTEND;TZID=Europe/Helsinki:20250127T160000
DTSTAMP:20260423T014726
CREATED:20250121T153539Z
LAST-MODIFIED:20250121T153539Z
UID:2302-1737982800-1737993600@xn--setlementtijmsnlaakso-h2bc.fi
SUMMARY:Luovan toiminnan kerho
DESCRIPTION:Alakouluikäisille maanantaisin 13.1.25 alkaen klo 13–16 Jameksessa. Tule askartelemaan\, piirtelemään\, pelailemaan\, laulamaan karaokea. Toiminta on maksutonta eikä kerhoon tarvitse ilmoittautua. Tarjoamme pienen välipalan. Toiminnan mahdollistaa Setlementtiliitto. Ohjaaja ja lisätietoa Marjo Örn\, p. 045 1061776.
URL:https://xn--setlementtijmsnlaakso-h2bc.fi/event/luovan-toiminnan-kerho-4/
LOCATION:James\, Mottilantie 11\, Jämsä\, 42100
END:VEVENT
BEGIN:VEVENT
DTSTART;TZID=Europe/Helsinki:20250127T173000
DTEND;TZID=Europe/Helsinki:20250127T183000
DTSTAMP:20260423T014726
CREATED:20250121T132932Z
LAST-MODIFIED:20250121T171019Z
UID:2271-1737999000-1738002600@xn--setlementtijmsnlaakso-h2bc.fi
SUMMARY:Runokaraoke
DESCRIPTION:Olet tervetullut lukemaan tai lausumaan jonkun toisen kirjoittaman tai omatekemäsi runon. Voit tulla kuuntelemaankin. Kokoonnumme Jämsän pääkirjaston monitoimisalissa klo 17.30–18.30. Runokaraoket toteutetaan yhdessä kaupungin kirjaston kanssa. Ma 27.1.25 aiheena käännösrunot.
URL:https://xn--setlementtijmsnlaakso-h2bc.fi/event/runokaraoke-2/
LOCATION:Jämsän kirjasto\, Keskuskatu 2-4\, Jämsä\, 42100
END:VEVENT
BEGIN:VEVENT
DTSTART;TZID=Europe/Helsinki:20250131T150000
DTEND;TZID=Europe/Helsinki:20250131T180000
DTSTAMP:20260423T014726
CREATED:20250121T131720Z
LAST-MODIFIED:20250121T170029Z
UID:2266-1738335600-1738346400@xn--setlementtijmsnlaakso-h2bc.fi
SUMMARY:Luovan ilmaisun ja kirjallisuuden piiri
DESCRIPTION:Piiri kokoontuu pe 31.1.25 klo 15 Kahvila Koululla Jämsässä. Tutustutaan ja otetaan ohjelmistoon Aura Jurvan satunäytelmä Puunhakkaaja ja metsänneito. Luovan ilmaisun ja kirjallisuuden piiri on avoin kaikenikäisille ja piirissä tutustutaan kirjailijoihin ja heidän teoksiinsa. Sovituissa tapaamisissa pääset ilmaisemaan itseäsi myös luovan ilmaisun keinoin\, kun teoksista tehdään näytelmiä. Piiriä ohjaa Jaana Lyyra\, p. 0500 416204. Tervetuloa mukaan!
URL:https://xn--setlementtijmsnlaakso-h2bc.fi/event/luovan-ilmaisun-ja-kirjallisuuden-piiri-2/
LOCATION:Kahvila Koulu\, Kelhänkatu 8b\, Jämsä\, 42100
END:VEVENT
BEGIN:VEVENT
DTSTART;TZID=Europe/Helsinki:20250203T130000
DTEND;TZID=Europe/Helsinki:20250203T160000
DTSTAMP:20260423T014726
CREATED:20250121T153744Z
LAST-MODIFIED:20250121T170121Z
UID:2304-1738587600-1738598400@xn--setlementtijmsnlaakso-h2bc.fi
SUMMARY:Luovan toiminnan kerho
DESCRIPTION:Alakouluikäisille maanantaisin 13.1.25 alkaen klo 13–16 Jameksessa. Tule askartelemaan\, piirtelemään\, pelailemaan\, laulamaan karaokea. Toiminta on maksutonta eikä kerhoon tarvitse ilmoittautua. Tarjoamme pienen välipalan. Toiminnan mahdollistaa Setlementtiliitto. Ohjaaja ja lisätietoa Marjo Örn\, p. 045 1061776.
URL:https://xn--setlementtijmsnlaakso-h2bc.fi/event/luovan-toiminnan-kerho-5/
LOCATION:James\, Mottilantie 11\, Jämsä\, 42100
END:VEVENT
BEGIN:VEVENT
DTSTART;TZID=Europe/Helsinki:20250210T130000
DTEND;TZID=Europe/Helsinki:20250210T160000
DTSTAMP:20260423T014726
CREATED:20250121T154510Z
LAST-MODIFIED:20250121T170159Z
UID:2306-1739192400-1739203200@xn--setlementtijmsnlaakso-h2bc.fi
SUMMARY:Luovan toiminnan kerho
DESCRIPTION:Alakouluikäisille maanantaisin 13.1.25 alkaen klo 13–16 Jameksessa. Tule askartelemaan\, piirtelemään\, pelailemaan\, laulamaan karaokea. Toiminta on maksutonta eikä kerhoon tarvitse ilmoittautua. Tarjoamme pienen välipalan. Toiminnan mahdollistaa Setlementtiliitto. Ohjaaja ja lisätietoa Marjo Örn\, p. 045 1061776.
URL:https://xn--setlementtijmsnlaakso-h2bc.fi/event/luovan-toiminnan-kerho-6/
LOCATION:James\, Mottilantie 11\, Jämsä\, 42100
END:VEVENT
BEGIN:VEVENT
DTSTART;TZID=Europe/Helsinki:20250217T130000
DTEND;TZID=Europe/Helsinki:20250217T160000
DTSTAMP:20260423T014726
CREATED:20250121T154729Z
LAST-MODIFIED:20250121T170219Z
UID:2308-1739797200-1739808000@xn--setlementtijmsnlaakso-h2bc.fi
SUMMARY:Luovan toiminnan kerho
DESCRIPTION:Alakouluikäisille maanantaisin 13.1.25 alkaen klo 13–16 Jameksessa. Tule askartelemaan\, piirtelemään\, pelailemaan\, laulamaan karaokea. Toiminta on maksutonta eikä kerhoon tarvitse ilmoittautua. Tarjoamme pienen välipalan. Toiminnan mahdollistaa Setlementtiliitto. Ohjaaja ja lisätietoa Marjo Örn\, p. 045 1061776.
URL:https://xn--setlementtijmsnlaakso-h2bc.fi/event/luovan-toiminnan-kerho-7/
LOCATION:James\, Mottilantie 11\, Jämsä\, 42100
END:VEVENT
BEGIN:VEVENT
DTSTART;TZID=Europe/Helsinki:20250225T140000
DTEND;TZID=Europe/Helsinki:20250225T150000
DTSTAMP:20260423T014726
CREATED:20250217T194400Z
LAST-MODIFIED:20250217T194400Z
UID:2323-1740492000-1740495600@xn--setlementtijmsnlaakso-h2bc.fi
SUMMARY:Tiistaiturinat
DESCRIPTION:Jokilaakson Luontaispuodissa 25.2.2025 klo 14–15. Turinoissa mukana Risto Hakola ja kirjat. Keskustelua yleisesti jämsäläisyydestä ja sen perimmäisestä tarkoituksesta. Tapahtuma on kaikille avoin. Kahvitarjoilu. Tervetuloa!
URL:https://xn--setlementtijmsnlaakso-h2bc.fi/event/tiistaiturinat-5/
LOCATION:Jokilaakson Luontaispuoti\, Koskentie 5\, Jämsä\, 42100
END:VEVENT
BEGIN:VEVENT
DTSTART;TZID=Europe/Helsinki:20250303T130000
DTEND;TZID=Europe/Helsinki:20250303T160000
DTSTAMP:20260423T014726
CREATED:20250121T155546Z
LAST-MODIFIED:20250121T170238Z
UID:2312-1741006800-1741017600@xn--setlementtijmsnlaakso-h2bc.fi
SUMMARY:Luovan toiminnan kerho
DESCRIPTION:Alakouluikäisille maanantaisin 13.1.25 alkaen klo 13–16 Jameksessa. Tule askartelemaan\, piirtelemään\, pelailemaan\, laulamaan karaokea. Toiminta on maksutonta eikä kerhoon tarvitse ilmoittautua. Tarjoamme pienen välipalan. Toiminnan mahdollistaa Setlementtiliitto. Ohjaaja ja lisätietoa Marjo Örn\, p. 045 1061776.
URL:https://xn--setlementtijmsnlaakso-h2bc.fi/event/luovan-toiminnan-kerho-9/
LOCATION:James\, Mottilantie 11\, Jämsä\, 42100
END:VEVENT
BEGIN:VEVENT
DTSTART;TZID=Europe/Helsinki:20250306T173000
DTEND;TZID=Europe/Helsinki:20250306T183000
DTSTAMP:20260423T014726
CREATED:20250121T135634Z
LAST-MODIFIED:20250121T170646Z
UID:2279-1741282200-1741285800@xn--setlementtijmsnlaakso-h2bc.fi
SUMMARY:Runokaraoke
DESCRIPTION:Olet tervetullut lukemaan tai lausumaan jonkun toisen kirjoittaman tai omatekemäsi runon. Voit tulla kuuntelemaankin. Kokoonnumme Jämsän pääkirjaston monitoimisalissa klo 17.30–18.30. Runokaraoket toteutetaan yhdessä kaupungin kirjaston kanssa. To 6.3.25 aiheena naiset.
URL:https://xn--setlementtijmsnlaakso-h2bc.fi/event/runokaraoke-3/
LOCATION:Jämsän kirjasto\, Keskuskatu 2-4\, Jämsä\, 42100
END:VEVENT
BEGIN:VEVENT
DTSTART;TZID=Europe/Helsinki:20250324T130000
DTEND;TZID=Europe/Helsinki:20250324T160000
DTSTAMP:20260423T014726
CREATED:20250319T171924Z
LAST-MODIFIED:20250319T171924Z
UID:2330-1742821200-1742832000@xn--setlementtijmsnlaakso-h2bc.fi
SUMMARY:Luovan toiminnan kerho
DESCRIPTION:Alakouluikäisille maanantaisin klo 13–16 Jameksessa. Tule askartelemaan\, piirtelemään\, pelailemaan\, laulamaan karaokea. Toiminta on maksutonta eikä kerhoon tarvitse ilmoittautua. Tarjoamme pienen välipalan. Toiminnan mahdollistaa Setlementtiliitto. Ohjaaja ja lisätietoa Marjo Örn\, p. 045 1061776.
URL:https://xn--setlementtijmsnlaakso-h2bc.fi/event/luovan-toiminnan-kerho-8/
LOCATION:James\, Mottilantie 11\, Jämsä\, 42100
END:VEVENT
BEGIN:VEVENT
DTSTART;TZID=Europe/Helsinki:20250325T140000
DTEND;TZID=Europe/Helsinki:20250325T150000
DTSTAMP:20260423T014726
CREATED:20250319T170948Z
LAST-MODIFIED:20250319T170948Z
UID:2326-1742911200-1742914800@xn--setlementtijmsnlaakso-h2bc.fi
SUMMARY:Tiistaiturinat
DESCRIPTION:Taidetalo Pässinmäessä 25.3.2025 klo 14–15. Hannu Teider johdattelee keskustelua\, jossa muistellaan Jämsän seudun entisiä menestyneitä urheilusankareita. Tapahtuma on kaikille avoin. Kahvitarjoilu\, tervetuloa!
URL:https://xn--setlementtijmsnlaakso-h2bc.fi/event/tiistaiturinat-6/
LOCATION:Taidetalo Pässinmäki\, Tiilikantie 5\, Jämsänkoski\, 42300
END:VEVENT
BEGIN:VEVENT
DTSTART;TZID=Europe/Helsinki:20250331T130000
DTEND;TZID=Europe/Helsinki:20250331T160000
DTSTAMP:20260423T014726
CREATED:20250319T172553Z
LAST-MODIFIED:20250319T172553Z
UID:2332-1743426000-1743436800@xn--setlementtijmsnlaakso-h2bc.fi
SUMMARY:Luovan toiminnan kerho
DESCRIPTION:Alakouluikäisille maanantaisin klo 13–16 Jameksessa. Tule askartelemaan\, piirtelemään\, pelailemaan\, laulamaan karaokea. Toiminta on maksutonta eikä kerhoon tarvitse ilmoittautua. Tarjoamme pienen välipalan. Toiminnan mahdollistaa Setlementtiliitto. Ohjaaja ja lisätietoa Marjo Örn\, p. 045 1061776.
URL:https://xn--setlementtijmsnlaakso-h2bc.fi/event/luovan-toiminnan-kerho-10/
LOCATION:James\, Mottilantie 11\, Jämsä\, 42100
END:VEVENT
BEGIN:VEVENT
DTSTART;TZID=Europe/Helsinki:20250407T130000
DTEND;TZID=Europe/Helsinki:20250407T160000
DTSTAMP:20260423T014726
CREATED:20250319T173151Z
LAST-MODIFIED:20250319T173151Z
UID:2334-1744030800-1744041600@xn--setlementtijmsnlaakso-h2bc.fi
SUMMARY:Luovan toiminnan kerho
DESCRIPTION:Alakouluikäisille maanantaisin klo 13–16 Jameksessa. Tule askartelemaan\, piirtelemään\, pelailemaan\, laulamaan karaokea. Toiminta on maksutonta eikä kerhoon tarvitse ilmoittautua. Tarjoamme pienen välipalan. Toiminnan mahdollistaa Setlementtiliitto. Ohjaaja ja lisätietoa Marjo Örn\, p. 045 1061776.
URL:https://xn--setlementtijmsnlaakso-h2bc.fi/event/luovan-toiminnan-kerho-11/
LOCATION:James\, Mottilantie 11\, Jämsä\, 42100
END:VEVENT
BEGIN:VEVENT
DTSTART;TZID=Europe/Helsinki:20250407T173000
DTEND;TZID=Europe/Helsinki:20250407T183000
DTSTAMP:20260423T014726
CREATED:20250121T135959Z
LAST-MODIFIED:20250121T170709Z
UID:2281-1744047000-1744050600@xn--setlementtijmsnlaakso-h2bc.fi
SUMMARY:Runokaraoke
DESCRIPTION:Olet tervetullut lukemaan tai lausumaan jonkun toisen kirjoittaman tai omatekemäsi runon. Voit tulla kuuntelemaankin. Kokoonnumme Jämsän pääkirjaston monitoimisalissa klo 17.30–18.30. Runokaraoket toteutetaan yhdessä kaupungin kirjaston kanssa. Ma 7.4.25 aiheena suomalaisuus ja kevät.
URL:https://xn--setlementtijmsnlaakso-h2bc.fi/event/runokaraoke-4/
LOCATION:Jämsän kirjasto\, Keskuskatu 2-4\, Jämsä\, 42100
END:VEVENT
BEGIN:VEVENT
DTSTART;TZID=Europe/Helsinki:20250414T130000
DTEND;TZID=Europe/Helsinki:20250414T160000
DTSTAMP:20260423T014726
CREATED:20250319T173436Z
LAST-MODIFIED:20250319T173436Z
UID:2336-1744635600-1744646400@xn--setlementtijmsnlaakso-h2bc.fi
SUMMARY:Luovan toiminnan kerho
DESCRIPTION:Alakouluikäisille maanantaisin klo 13–16 Jameksessa. Tule askartelemaan\, piirtelemään\, pelailemaan\, laulamaan karaokea. Toiminta on maksutonta eikä kerhoon tarvitse ilmoittautua. Tarjoamme pienen välipalan. Toiminnan mahdollistaa Setlementtiliitto. Ohjaaja ja lisätietoa Marjo Örn\, p. 045 1061776.
URL:https://xn--setlementtijmsnlaakso-h2bc.fi/event/luovan-toiminnan-kerho-12/
LOCATION:James\, Mottilantie 11\, Jämsä\, 42100
END:VEVENT
BEGIN:VEVENT
DTSTART;TZID=Europe/Helsinki:20250428T130000
DTEND;TZID=Europe/Helsinki:20250428T160000
DTSTAMP:20260423T014726
CREATED:20250319T173756Z
LAST-MODIFIED:20250319T173756Z
UID:2340-1745845200-1745856000@xn--setlementtijmsnlaakso-h2bc.fi
SUMMARY:Luovan toiminnan kerho
DESCRIPTION:Alakouluikäisille maanantaisin klo 13–16 Jameksessa. Tule askartelemaan\, piirtelemään\, pelailemaan\, laulamaan karaokea. Toiminta on maksutonta eikä kerhoon tarvitse ilmoittautua. Tarjoamme pienen välipalan. Toiminnan mahdollistaa Setlementtiliitto. Ohjaaja ja lisätietoa Marjo Örn\, p. 045 1061776.
URL:https://xn--setlementtijmsnlaakso-h2bc.fi/event/luovan-toiminnan-kerho-14/
LOCATION:James\, Mottilantie 11\, Jämsä\, 42100
END:VEVENT
BEGIN:VEVENT
DTSTART;TZID=Europe/Helsinki:20250429T170000
DTEND;TZID=Europe/Helsinki:20250429T183000
DTSTAMP:20260423T014726
CREATED:20250415T184029Z
LAST-MODIFIED:20250415T184029Z
UID:2350-1745946000-1745951400@xn--setlementtijmsnlaakso-h2bc.fi
SUMMARY:Tiistaiturinat
DESCRIPTION:Kahvila Koululla 29.4.2025 klo 17. Seurustelun lisäksi KULTTUURIBINGO\, jossa kulttuurille tuoksuvia palkintoja. Tapahtuma on kaikille avoin. Kahvitarjoilu\, tervetuloa!
URL:https://xn--setlementtijmsnlaakso-h2bc.fi/event/tiistaiturinat-7/
LOCATION:Kahvila Koulu\, Kelhänkatu 8b\, Jämsä\, 42100
END:VEVENT
BEGIN:VEVENT
DTSTART;TZID=Europe/Helsinki:20250505T130000
DTEND;TZID=Europe/Helsinki:20250505T160000
DTSTAMP:20260423T014726
CREATED:20250319T174152Z
LAST-MODIFIED:20250319T174152Z
UID:2342-1746450000-1746460800@xn--setlementtijmsnlaakso-h2bc.fi
SUMMARY:Luovan toiminnan kerho
DESCRIPTION:Alakouluikäisille maanantaisin klo 13–16 Jameksessa. Tule askartelemaan\, piirtelemään\, pelailemaan\, laulamaan karaokea. Toiminta on maksutonta eikä kerhoon tarvitse ilmoittautua. Tarjoamme pienen välipalan. Toiminnan mahdollistaa Setlementtiliitto. Ohjaaja ja lisätietoa Marjo Örn\, p. 045 1061776.
URL:https://xn--setlementtijmsnlaakso-h2bc.fi/event/luovan-toiminnan-kerho-15/
LOCATION:James\, Mottilantie 11\, Jämsä\, 42100
END:VEVENT
BEGIN:VEVENT
DTSTART;TZID=Europe/Helsinki:20250512T130000
DTEND;TZID=Europe/Helsinki:20250512T160000
DTSTAMP:20260423T014726
CREATED:20250319T174411Z
LAST-MODIFIED:20250319T174411Z
UID:2344-1747054800-1747065600@xn--setlementtijmsnlaakso-h2bc.fi
SUMMARY:Luovan toiminnan kerho
DESCRIPTION:Alakouluikäisille maanantaisin klo 13–16 Jameksessa. Tule askartelemaan\, piirtelemään\, pelailemaan\, laulamaan karaokea. Toiminta on maksutonta eikä kerhoon tarvitse ilmoittautua. Tarjoamme pienen välipalan. Toiminnan mahdollistaa Setlementtiliitto. Ohjaaja ja lisätietoa Marjo Örn\, p. 045 1061776.
URL:https://xn--setlementtijmsnlaakso-h2bc.fi/event/luovan-toiminnan-kerho-13/
LOCATION:James\, Mottilantie 11\, Jämsä\, 42100
END:VEVENT
BEGIN:VEVENT
DTSTART;TZID=Europe/Helsinki:20250527T140000
DTEND;TZID=Europe/Helsinki:20250527T160000
DTSTAMP:20260423T014726
CREATED:20250526T184943Z
LAST-MODIFIED:20250526T184943Z
UID:2355-1748354400-1748361600@xn--setlementtijmsnlaakso-h2bc.fi
SUMMARY:Tiistaiturinat
DESCRIPTION:Krolf-pelin parissa 27.5.2025 klo 14 alkaen Ukkoherranpuiston krolf-kentällä (Nikkarinkujan ja Tippakujan välissä) Jämsänjoen rannassa. Tule mukaan pelaamaan tai muuten tutustumaan lajiin. Ohjaajana Sirpa Rantanen. Tapahtuma on kaikille avoin. Tervetuloa!
URL:https://xn--setlementtijmsnlaakso-h2bc.fi/event/tiistaiturinat-8/
LOCATION:Ukkoherranpuisto\, Jämsä\, 42100
END:VEVENT
BEGIN:VEVENT
DTSTART;TZID=Europe/Helsinki:20250602T100000
DTEND;TZID=Europe/Helsinki:20250606T160000
DTSTAMP:20260423T014726
CREATED:20250526T185918Z
LAST-MODIFIED:20250526T202605Z
UID:2359-1748858400-1749225600@xn--setlementtijmsnlaakso-h2bc.fi
SUMMARY:Luovan toiminnan leiri kouluikäisille
DESCRIPTION:Ma–pe 2.–6.6.2025 klo 10–16 Jameksen tiloissa. Maanantaina suunnitellaan yhdessä tulevien päivien ohjelma\, johon voidaan liittää piirtämistä\, maalaamista luonnossa\, pelaamista\, askartelua\, ulkoilua lähiympäristössä yms. Lisäksi Pirjo Raudaskoski ohjaa kädentaitoja ke–to. \nOpettelemme myös tekemään helpon lounaan kerran päivässä. Omia välipaloja voi tuoda jääkaappiin. \nLeiri toteutetaan yhdessä Ilvespartion kanssa. Ohjaajina kesätyöntekijä Penni sekä Setlementin ja Ilvespartion aikuisia. \nLeirimaksu 20€/pv tai 75€/5 pv. \nIlmoittaudu viimeistään pe 30.5.2025 viestillä p. 045 106 1776/Marjo.
URL:https://xn--setlementtijmsnlaakso-h2bc.fi/event/luovan-toiminnan-leiri-kouluikaisille/
LOCATION:James\, Mottilantie 11\, Jämsä\, 42100
END:VEVENT
BEGIN:VEVENT
DTSTART;TZID=Europe/Helsinki:20250617T140000
DTEND;TZID=Europe/Helsinki:20250617T153000
DTSTAMP:20260423T014726
CREATED:20250610T151937Z
LAST-MODIFIED:20250610T151937Z
UID:2374-1750168800-1750174200@xn--setlementtijmsnlaakso-h2bc.fi
SUMMARY:Tiistaiturinat
DESCRIPTION:MiniMottilassa 17.6.2025 klo 14. Kahvitellaan ja turinoidaan yhdessä Mottilantien vilkkaasta kauppahistoriasta. Tapahtuma on kaikille avoin. Tervetuloa!
URL:https://xn--setlementtijmsnlaakso-h2bc.fi/event/tiistaiturinat-9/
LOCATION:MiniMottila\, Mottilantie 2\, Jämsä\, 42100
END:VEVENT
BEGIN:VEVENT
DTSTART;TZID=Europe/Helsinki:20250624T180000
DTEND;TZID=Europe/Helsinki:20250624T200000
DTSTAMP:20260423T014726
CREATED:20250526T190426Z
LAST-MODIFIED:20250602T055823Z
UID:2361-1750788000-1750795200@xn--setlementtijmsnlaakso-h2bc.fi
SUMMARY:Koko perheen satunäytelmä
DESCRIPTION:HUOM! Esitysajankohta muuttunut: Ti 24.6.2025 klo 18 Kahvila Koululla. Luovan ilmaisun ja kirjallisuuden piiri esittää Aura Jurvan satunäytelmän Puunhakkaaja ja metsänneito. Liput 5 €. Kahvio on avoinna ennen esitystä. Tervetuloa!
URL:https://xn--setlementtijmsnlaakso-h2bc.fi/event/koko-perheen-satunaytelma/
LOCATION:Kahvila Koulu\, Kelhänkatu 8b\, Jämsä\, 42100
END:VEVENT
BEGIN:VEVENT
DTSTART;TZID=Europe/Helsinki:20250701T140000
DTEND;TZID=Europe/Helsinki:20250701T160000
DTSTAMP:20260423T014726
CREATED:20250610T171548Z
LAST-MODIFIED:20250610T171548Z
UID:2380-1751378400-1751385600@xn--setlementtijmsnlaakso-h2bc.fi
SUMMARY:Vinnin historia-kulttuurikierros
DESCRIPTION:Ti 1.7. klo 14. Oppaina Jaana Lyyra ja Arto Niiranen. Nähtävillä myös taideaitat ja karjalaiset ajopelit.\nTapahtumaan on vapaa pääsy. Herkut myy Kahvio Helena.
URL:https://xn--setlementtijmsnlaakso-h2bc.fi/event/vinnin-historia-kulttuurikierros/
LOCATION:Vinnin tila\, Vinnintie 40\, Jämsä\, 42100
END:VEVENT
BEGIN:VEVENT
DTSTART;TZID=Europe/Helsinki:20250702T180000
DTEND;TZID=Europe/Helsinki:20250702T200000
DTSTAMP:20260423T014726
CREATED:20250610T171837Z
LAST-MODIFIED:20250630T202820Z
UID:2383-1751479200-1751486400@xn--setlementtijmsnlaakso-h2bc.fi
SUMMARY:Musiikillinen kahvihetki Vinnillä
DESCRIPTION:Ke 2.7. klo 18. Musiikkia hoveista ja salongeista tarjoavat Marko Rutanen\, kitara ja Marko Kupari\, harmoni.\nTapahtumaan on vapaa pääsy ja se on avoin kaikille. Kahvio Helena on avoinna klo 14–19.
URL:https://xn--setlementtijmsnlaakso-h2bc.fi/event/musiikillinen-kahvihetki-vinnilla/
LOCATION:Vinnin tila\, Vinnintie 40\, Jämsä\, 42100
END:VEVENT
BEGIN:VEVENT
DTSTART;TZID=Europe/Helsinki:20250703T140000
DTEND;TZID=Europe/Helsinki:20250703T160000
DTSTAMP:20260423T014726
CREATED:20250610T173327Z
LAST-MODIFIED:20250630T202948Z
UID:2393-1751551200-1751558400@xn--setlementtijmsnlaakso-h2bc.fi
SUMMARY:Pihapelit ja perinneleikit Vinnillä
DESCRIPTION:To 3.7. klo 14. Ohjaajina Jaana Lyyra ja Arto Niiranen.\nTapahtumaan on vapaa pääsy ja se on avoin kaikille. Kahvio Helena on avoinna klo 13–17.
URL:https://xn--setlementtijmsnlaakso-h2bc.fi/event/pihapelit-ja-perinneleikit-vinnilla/
LOCATION:Vinnin tila\, Vinnintie 40\, Jämsä\, 42100
END:VEVENT
BEGIN:VEVENT
DTSTART;TZID=Europe/Helsinki:20250706T140000
DTEND;TZID=Europe/Helsinki:20250706T160000
DTSTAMP:20260423T014726
CREATED:20250610T172337Z
LAST-MODIFIED:20250702T205114Z
UID:2387-1751810400-1751817600@xn--setlementtijmsnlaakso-h2bc.fi
SUMMARY:Runon ja suven päivä Vinnillä
DESCRIPTION:Su 6.7. klo 14. Luvassa Eino Leinoa sanoin ja sävelin.\nEsiintymässä Janne Vainiola\, Arto Niiranen\, Riitta-Liisa Soikka\, Tarja Hakanen\, Jaana Lyyra.\nTapahtumaan on vapaa pääsy ja se on avoin kaikille. Kahvio Helena on avoinna klo 13–17.
URL:https://xn--setlementtijmsnlaakso-h2bc.fi/event/eino-leino-sanoin-ja-savelin-vinnilla/
LOCATION:Vinnin tila\, Vinnintie 40\, Jämsä\, 42100
END:VEVENT
END:VCALENDAR