BEGIN:VCALENDAR
VERSION:2.0
PRODID:-//Hyvinvointia taiteen ja kulttuurin voimalla - ECPv6.15.20//NONSGML v1.0//EN
CALSCALE:GREGORIAN
METHOD:PUBLISH
X-ORIGINAL-URL:https://xn--setlementtijmsnlaakso-h2bc.fi
X-WR-CALDESC:Tapahtumat Hyvinvointia taiteen ja kulttuurin voimalla
REFRESH-INTERVAL;VALUE=DURATION:PT1H
X-Robots-Tag:noindex
X-PUBLISHED-TTL:PT1H
BEGIN:VTIMEZONE
TZID:Europe/Helsinki
BEGIN:DAYLIGHT
TZOFFSETFROM:+0200
TZOFFSETTO:+0300
TZNAME:EEST
DTSTART:20250330T010000
END:DAYLIGHT
BEGIN:STANDARD
TZOFFSETFROM:+0300
TZOFFSETTO:+0200
TZNAME:EET
DTSTART:20251026T010000
END:STANDARD
BEGIN:DAYLIGHT
TZOFFSETFROM:+0200
TZOFFSETTO:+0300
TZNAME:EEST
DTSTART:20260329T010000
END:DAYLIGHT
BEGIN:STANDARD
TZOFFSETFROM:+0300
TZOFFSETTO:+0200
TZNAME:EET
DTSTART:20261025T010000
END:STANDARD
BEGIN:DAYLIGHT
TZOFFSETFROM:+0200
TZOFFSETTO:+0300
TZNAME:EEST
DTSTART:20270328T010000
END:DAYLIGHT
BEGIN:STANDARD
TZOFFSETFROM:+0300
TZOFFSETTO:+0200
TZNAME:EET
DTSTART:20271031T010000
END:STANDARD
END:VTIMEZONE
BEGIN:VEVENT
DTSTART;TZID=Europe/Helsinki:20260414T140000
DTEND;TZID=Europe/Helsinki:20260414T153000
DTSTAMP:20260420T181157
CREATED:20260411T163207Z
LAST-MODIFIED:20260411T163207Z
UID:2583-1776175200-1776180600@xn--setlementtijmsnlaakso-h2bc.fi
SUMMARY:Tiistaiturinat
DESCRIPTION:14.4.2026 klo 14 Jämsänkosken Vanhassa Pappilassa. Tutustutaan kahvittelun lomassa mm. Kuoreveden Taideseuran näyttelyyn ja Jämsän Lehden v. 1939 aitoon vuosikertaan. Yhteislähtö Jämsästä\, Jämsän Äijän aukion laidalta klo 13.40. Tapahtuma on kaikille avoin. Tervetuloa!
URL:https://xn--setlementtijmsnlaakso-h2bc.fi/event/tiistaiturinat-15/
LOCATION:Vanha Pappila\, Koskenväylä 6\, Jämsänkoski\, 42300
END:VEVENT
END:VCALENDAR